BEGIN:VCALENDAR
VERSION:2.0
PRODID:-//wlayc.org - ECPv6.15.20//NONSGML v1.0//EN
CALSCALE:GREGORIAN
METHOD:PUBLISH
X-WR-CALNAME:wlayc.org
X-ORIGINAL-URL:https://wlayc.org
X-WR-CALDESC:Events for wlayc.org
REFRESH-INTERVAL;VALUE=DURATION:PT1H
X-Robots-Tag:noindex
X-PUBLISHED-TTL:PT1H
BEGIN:VTIMEZONE
TZID:America/Los_Angeles
BEGIN:DAYLIGHT
TZOFFSETFROM:-0800
TZOFFSETTO:-0700
TZNAME:PDT
DTSTART:20240310T100000
END:DAYLIGHT
BEGIN:STANDARD
TZOFFSETFROM:-0700
TZOFFSETTO:-0800
TZNAME:PST
DTSTART:20241103T090000
END:STANDARD
BEGIN:DAYLIGHT
TZOFFSETFROM:-0800
TZOFFSETTO:-0700
TZNAME:PDT
DTSTART:20250309T100000
END:DAYLIGHT
BEGIN:STANDARD
TZOFFSETFROM:-0700
TZOFFSETTO:-0800
TZNAME:PST
DTSTART:20251102T090000
END:STANDARD
BEGIN:DAYLIGHT
TZOFFSETFROM:-0800
TZOFFSETTO:-0700
TZNAME:PDT
DTSTART:20260308T100000
END:DAYLIGHT
BEGIN:STANDARD
TZOFFSETFROM:-0700
TZOFFSETTO:-0800
TZNAME:PST
DTSTART:20261101T090000
END:STANDARD
BEGIN:DAYLIGHT
TZOFFSETFROM:-0800
TZOFFSETTO:-0700
TZNAME:PDT
DTSTART:20270314T100000
END:DAYLIGHT
BEGIN:STANDARD
TZOFFSETFROM:-0700
TZOFFSETTO:-0800
TZNAME:PST
DTSTART:20271107T090000
END:STANDARD
END:VTIMEZONE
BEGIN:VEVENT
DTSTART;TZID=America/Los_Angeles:20260114T193000
DTEND;TZID=America/Los_Angeles:20260114T203000
DTSTAMP:20260421T022524
CREATED:20251117T222725Z
LAST-MODIFIED:20251117T222725Z
UID:3246-1768419000-1768422600@wlayc.org
SUMMARY:Jan 2026 Parent Rep Meeting
DESCRIPTION:
URL:https://wlayc.org/calendar/jan-2026-parent-rep-meeting/
LOCATION:West Los Angeles Buddhist Temple\, 2003 Corinth Ave\, Los Angeles\, CA\, 90025\, United States
END:VEVENT
BEGIN:VEVENT
DTSTART;VALUE=DATE:20251212
DTEND;VALUE=DATE:20251214
DTSTAMP:20260421T022524
CREATED:20251126T123652Z
LAST-MODIFIED:20251126T123732Z
UID:3279-1765497600-1765670399@wlayc.org
SUMMARY:WLA Buddhist Temple Mochitsuki
DESCRIPTION:WLA Buddhist Temple is looking for volunteers to help with this year’s Mochitsuki (“mochi pounding”). \nIn order to volunteer\, simple show up at the WLA Buddhist Temple to help. Service hours will be signed for those able to volunteer. \n\n12/12/25 (Friday): Rice Washing starts at 6pm\n12/13/25 (Saturday) Mochitsuki starts at 8 am until completion \n\n 
URL:https://wlayc.org/calendar/wla-buddhist-temple-mochitsuki/
LOCATION:West Los Angeles Buddhist Temple\, 2003 Corinth Ave\, Los Angeles\, CA\, 90025\, United States
END:VEVENT
BEGIN:VEVENT
DTSTART;VALUE=DATE:20251210
DTEND;VALUE=DATE:20251211
DTSTAMP:20260421T022524
CREATED:20251117T222637Z
LAST-MODIFIED:20251209T191327Z
UID:3244-1765324800-1765411199@wlayc.org
SUMMARY:Dec 2025 Parent Rep Meeting
DESCRIPTION:Meeting via email. If you are a parent rep\, please review and reply to the email you’ve received.
URL:https://wlayc.org/calendar/dec-2025-parent-rep-meeting/
LOCATION:CA
END:VEVENT
BEGIN:VEVENT
DTSTART;TZID=America/Los_Angeles:20251112T193000
DTEND;TZID=America/Los_Angeles:20251112T203000
DTSTAMP:20260421T022524
CREATED:20251112T031139Z
LAST-MODIFIED:20251112T032552Z
UID:3218-1762975800-1762979400@wlayc.org
SUMMARY:November Parent Rep Meeting
DESCRIPTION:Monthly Parent Rep Meeting
URL:https://wlayc.org/calendar/parent-rep-meeting/
LOCATION:West Los Angeles Buddhist Temple\, 2003 Corinth Ave\, Los Angeles\, CA\, 90025\, United States
END:VEVENT
END:VCALENDAR