BEGIN:VCALENDAR
VERSION:2.0
PRODID:-//wlayc.org - ECPv6.15.20//NONSGML v1.0//EN
CALSCALE:GREGORIAN
METHOD:PUBLISH
X-ORIGINAL-URL:https://wlayc.org
X-WR-CALDESC:Events for wlayc.org
REFRESH-INTERVAL;VALUE=DURATION:PT1H
X-Robots-Tag:noindex
X-PUBLISHED-TTL:PT1H
BEGIN:VTIMEZONE
TZID:America/Los_Angeles
BEGIN:DAYLIGHT
TZOFFSETFROM:-0800
TZOFFSETTO:-0700
TZNAME:PDT
DTSTART:20240310T100000
END:DAYLIGHT
BEGIN:STANDARD
TZOFFSETFROM:-0700
TZOFFSETTO:-0800
TZNAME:PST
DTSTART:20241103T090000
END:STANDARD
BEGIN:DAYLIGHT
TZOFFSETFROM:-0800
TZOFFSETTO:-0700
TZNAME:PDT
DTSTART:20250309T100000
END:DAYLIGHT
BEGIN:STANDARD
TZOFFSETFROM:-0700
TZOFFSETTO:-0800
TZNAME:PST
DTSTART:20251102T090000
END:STANDARD
BEGIN:DAYLIGHT
TZOFFSETFROM:-0800
TZOFFSETTO:-0700
TZNAME:PDT
DTSTART:20260308T100000
END:DAYLIGHT
BEGIN:STANDARD
TZOFFSETFROM:-0700
TZOFFSETTO:-0800
TZNAME:PST
DTSTART:20261101T090000
END:STANDARD
BEGIN:DAYLIGHT
TZOFFSETFROM:-0800
TZOFFSETTO:-0700
TZNAME:PDT
DTSTART:20270314T100000
END:DAYLIGHT
BEGIN:STANDARD
TZOFFSETFROM:-0700
TZOFFSETTO:-0800
TZNAME:PST
DTSTART:20271107T090000
END:STANDARD
END:VTIMEZONE
BEGIN:VEVENT
DTSTART;TZID=America/Los_Angeles:20251112T193000
DTEND;TZID=America/Los_Angeles:20251112T203000
DTSTAMP:20260421T045542
CREATED:20251112T031139Z
LAST-MODIFIED:20251112T032552Z
UID:3218-1762975800-1762979400@wlayc.org
SUMMARY:November Parent Rep Meeting
DESCRIPTION:Monthly Parent Rep Meeting
URL:https://wlayc.org/calendar/parent-rep-meeting/
LOCATION:West Los Angeles Buddhist Temple\, 2003 Corinth Ave\, Los Angeles\, CA\, 90025\, United States
END:VEVENT
BEGIN:VEVENT
DTSTART;VALUE=DATE:20251210
DTEND;VALUE=DATE:20251211
DTSTAMP:20260421T045542
CREATED:20251117T222637Z
LAST-MODIFIED:20251209T191327Z
UID:3244-1765324800-1765411199@wlayc.org
SUMMARY:Dec 2025 Parent Rep Meeting
DESCRIPTION:Meeting via email. If you are a parent rep\, please review and reply to the email you’ve received.
URL:https://wlayc.org/calendar/dec-2025-parent-rep-meeting/
LOCATION:CA
END:VEVENT
BEGIN:VEVENT
DTSTART;VALUE=DATE:20251212
DTEND;VALUE=DATE:20251214
DTSTAMP:20260421T045542
CREATED:20251126T123652Z
LAST-MODIFIED:20251126T123732Z
UID:3279-1765497600-1765670399@wlayc.org
SUMMARY:WLA Buddhist Temple Mochitsuki
DESCRIPTION:WLA Buddhist Temple is looking for volunteers to help with this year’s Mochitsuki (“mochi pounding”). \nIn order to volunteer\, simple show up at the WLA Buddhist Temple to help. Service hours will be signed for those able to volunteer. \n\n12/12/25 (Friday): Rice Washing starts at 6pm\n12/13/25 (Saturday) Mochitsuki starts at 8 am until completion \n\n 
URL:https://wlayc.org/calendar/wla-buddhist-temple-mochitsuki/
LOCATION:West Los Angeles Buddhist Temple\, 2003 Corinth Ave\, Los Angeles\, CA\, 90025\, United States
END:VEVENT
BEGIN:VEVENT
DTSTART;TZID=America/Los_Angeles:20260114T193000
DTEND;TZID=America/Los_Angeles:20260114T203000
DTSTAMP:20260421T045542
CREATED:20251117T222725Z
LAST-MODIFIED:20251117T222725Z
UID:3246-1768419000-1768422600@wlayc.org
SUMMARY:Jan 2026 Parent Rep Meeting
DESCRIPTION:
URL:https://wlayc.org/calendar/jan-2026-parent-rep-meeting/
LOCATION:West Los Angeles Buddhist Temple\, 2003 Corinth Ave\, Los Angeles\, CA\, 90025\, United States
END:VEVENT
BEGIN:VEVENT
DTSTART;VALUE=DATE:20260206
DTEND;VALUE=DATE:20260207
DTSTAMP:20260421T045542
CREATED:20251216T222836Z
LAST-MODIFIED:20251216T222836Z
UID:3317-1770336000-1770422399@wlayc.org
SUMMARY:Registration Deadline for 2026 WLA Tournament
DESCRIPTION:Registration closes on February 6\, 2026\, so don’t miss out. We thank you for your consideration in the 35th WLAYC basketball tournament. Please direct any questions to your division coordinator\, and we look forward to seeing you on the court. \nRegistration Link: https://events.teamsnap.com/registrations/iPCSCh3qs5UZdKfFvDNQWrtei5gKKbqFM2rjCCMDZlWN0t7Fyr
URL:https://wlayc.org/calendar/registration-deadline-for-2026-wla-tournament/
LOCATION:CA
END:VEVENT
BEGIN:VEVENT
DTSTART;TZID=America/Los_Angeles:20260211T193000
DTEND;TZID=America/Los_Angeles:20260211T203000
DTSTAMP:20260421T045542
CREATED:20251117T222811Z
LAST-MODIFIED:20251117T222811Z
UID:3248-1770838200-1770841800@wlayc.org
SUMMARY:Feb 2026 Parent Rep Meeting
DESCRIPTION:
URL:https://wlayc.org/calendar/feb-2026-parent-rep-meeting/
LOCATION:West Los Angeles Buddhist Temple\, 2003 Corinth Ave\, Los Angeles\, CA\, 90025\, United States
END:VEVENT
BEGIN:VEVENT
DTSTART;TZID=America/Los_Angeles:20260311T193000
DTEND;TZID=America/Los_Angeles:20260311T203000
DTSTAMP:20260421T045542
CREATED:20251117T222846Z
LAST-MODIFIED:20251117T222846Z
UID:3250-1773257400-1773261000@wlayc.org
SUMMARY:Mar 2026 Parent Rep Meeting
DESCRIPTION:
URL:https://wlayc.org/calendar/mar-2026-parent-rep-meeting/
LOCATION:West Los Angeles Buddhist Temple\, 2003 Corinth Ave\, Los Angeles\, CA\, 90025\, United States
END:VEVENT
BEGIN:VEVENT
DTSTART;TZID=America/Los_Angeles:20260408T190000
DTEND;TZID=America/Los_Angeles:20260408T194500
DTSTAMP:20260421T045542
CREATED:20260312T033701Z
LAST-MODIFIED:20260312T124832Z
UID:3329-1775674800-1775677500@wlayc.org
SUMMARY:WLA Tournament Gym Monitor Meeting
DESCRIPTION:There are 2 gym monitor meetings prior to the WLA Tournament 2026. Parents who have not gym monitored before should attend one (1) of the two meetings based on their schedule.
URL:https://wlayc.org/calendar/wla-tournament-gym-monitor-meeting/
LOCATION:West Los Angeles Buddhist Temple\, 2003 Corinth Ave\, Los Angeles\, CA\, 90025\, United States
END:VEVENT
BEGIN:VEVENT
DTSTART;TZID=America/Los_Angeles:20260408T194500
DTEND;TZID=America/Los_Angeles:20260408T203000
DTSTAMP:20260421T045542
CREATED:20251117T222917Z
LAST-MODIFIED:20260312T034231Z
UID:3252-1775677500-1775680200@wlayc.org
SUMMARY:Apr 2026 Parent Rep Meeting
DESCRIPTION:
URL:https://wlayc.org/calendar/apr-2026-parent-rep-meeting/
LOCATION:West Los Angeles Buddhist Temple\, 2003 Corinth Ave\, Los Angeles\, CA\, 90025\, United States
END:VEVENT
BEGIN:VEVENT
DTSTART;TZID=America/Los_Angeles:20260414T190000
DTEND;TZID=America/Los_Angeles:20260414T194500
DTSTAMP:20260421T045542
CREATED:20260312T033819Z
LAST-MODIFIED:20260312T124858Z
UID:3331-1776193200-1776195900@wlayc.org
SUMMARY:WLA Tournament Gym Monitor Meeting
DESCRIPTION:There are 2 gym monitor meetings prior to the WLA Tournament 2026. Parents who have not gym monitored before should attend one (1) of the two meetings based on their schedule.
URL:https://wlayc.org/calendar/wla-tournament-gym-monitor-meeting-2/
LOCATION:West Los Angeles Buddhist Temple\, 2003 Corinth Ave\, Los Angeles\, CA\, 90025\, United States
END:VEVENT
BEGIN:VEVENT
DTSTART;TZID=America/Los_Angeles:20260416T190000
DTEND;TZID=America/Los_Angeles:20260416T200000
DTSTAMP:20260421T045542
CREATED:20260312T033947Z
LAST-MODIFIED:20260312T033947Z
UID:3333-1776366000-1776369600@wlayc.org
SUMMARY:WLA Tournament Meeting
DESCRIPTION:This is a meeting for tournament division coordinators and gym monitors.
URL:https://wlayc.org/calendar/wla-tournament-meeting/
LOCATION:West Los Angeles Buddhist Temple\, 2003 Corinth Ave\, Los Angeles\, CA\, 90025\, United States
END:VEVENT
BEGIN:VEVENT
DTSTART;VALUE=DATE:20260418
DTEND;VALUE=DATE:20260420
DTSTAMP:20260421T045542
CREATED:20251112T032529Z
LAST-MODIFIED:20260409T031014Z
UID:3222-1776470400-1776643199@wlayc.org
SUMMARY:WLA Tournament 2026
DESCRIPTION:Various locations around Los Angeles. \nWLAYC Tournament Rules & Regulations (revised 3/17/26)
URL:https://wlayc.org/calendar/wla-tournament-2026/
LOCATION:CA
END:VEVENT
BEGIN:VEVENT
DTSTART;TZID=America/Los_Angeles:20260422T193000
DTEND;TZID=America/Los_Angeles:20260422T203000
DTSTAMP:20260421T045542
CREATED:20260409T030443Z
LAST-MODIFIED:20260409T030443Z
UID:3339-1776886200-1776889800@wlayc.org
SUMMARY:WLA Tournament Recap Meeting
DESCRIPTION:This is a meeting for tournament division coordinators and gym monitors who have scoreboards and equipment to return\, as well as for those who would like to share feedback on the tournament.
URL:https://wlayc.org/calendar/wla-tournament-recap-meeting/
LOCATION:West Los Angeles Buddhist Temple\, 2003 Corinth Ave\, Los Angeles\, CA\, 90025\, United States
END:VEVENT
BEGIN:VEVENT
DTSTART;VALUE=DATE:20260501
DTEND;VALUE=DATE:20260504
DTSTAMP:20260421T045542
CREATED:20251117T230807Z
LAST-MODIFIED:20260219T030654Z
UID:3270-1777593600-1777852799@wlayc.org
SUMMARY:F.O.R. Tournament 2026
DESCRIPTION:
URL:https://wlayc.org/calendar/f-o-r-tournament-2026/
LOCATION:CA
END:VEVENT
BEGIN:VEVENT
DTSTART;TZID=America/Los_Angeles:20260513T193000
DTEND;TZID=America/Los_Angeles:20260513T203000
DTSTAMP:20260421T045542
CREATED:20251117T222942Z
LAST-MODIFIED:20251117T222942Z
UID:3254-1778700600-1778704200@wlayc.org
SUMMARY:May 2026 Parent Rep Meeting
DESCRIPTION:
URL:https://wlayc.org/calendar/may-2026-parent-rep-meeting/
LOCATION:West Los Angeles Buddhist Temple\, 2003 Corinth Ave\, Los Angeles\, CA\, 90025\, United States
END:VEVENT
BEGIN:VEVENT
DTSTART;VALUE=DATE:20260523
DTEND;VALUE=DATE:20260526
DTSTAMP:20260421T045542
CREATED:20251117T230826Z
LAST-MODIFIED:20260219T030709Z
UID:3272-1779494400-1779753599@wlayc.org
SUMMARY:Tigers Tournament 2026
DESCRIPTION:
URL:https://wlayc.org/calendar/tigers-tournament-2026/
LOCATION:CA
END:VEVENT
BEGIN:VEVENT
DTSTART;TZID=America/Los_Angeles:20260601T080000
DTEND;TZID=America/Los_Angeles:20260601T090000
DTSTAMP:20260421T045542
CREATED:20251117T223400Z
LAST-MODIFIED:20251117T223400Z
UID:3266-1780300800-1780304400@wlayc.org
SUMMARY:WLAYC Jamboree 2026 (Date TBD)
DESCRIPTION:Jamboree will take place some time in June 2026.
URL:https://wlayc.org/calendar/wlayc-jamboree-2026-date-tbd/
LOCATION:West Los Angeles Buddhist Temple\, 2003 Corinth Ave\, Los Angeles\, CA\, 90025\, United States
END:VEVENT
BEGIN:VEVENT
DTSTART;TZID=America/Los_Angeles:20260610T193000
DTEND;TZID=America/Los_Angeles:20260610T203000
DTSTAMP:20260421T045542
CREATED:20251117T223005Z
LAST-MODIFIED:20251117T223230Z
UID:3256-1781119800-1781123400@wlayc.org
SUMMARY:Jun 2026 Parent Rep Meeting
DESCRIPTION:
URL:https://wlayc.org/calendar/jun-2026-parent-rep-meeting/
LOCATION:West Los Angeles Buddhist Temple\, 2003 Corinth Ave\, Los Angeles\, CA\, 90025\, United States
END:VEVENT
BEGIN:VEVENT
DTSTART;TZID=America/Los_Angeles:20260708T193000
DTEND;TZID=America/Los_Angeles:20260708T203000
DTSTAMP:20260421T045542
CREATED:20251117T223028Z
LAST-MODIFIED:20251117T223034Z
UID:3258-1783539000-1783542600@wlayc.org
SUMMARY:Jul 2026 Parent Rep Meeting
DESCRIPTION:
URL:https://wlayc.org/calendar/jul-2026-parent-rep-meeting/
LOCATION:West Los Angeles Buddhist Temple\, 2003 Corinth Ave\, Los Angeles\, CA\, 90025\, United States
END:VEVENT
BEGIN:VEVENT
DTSTART;VALUE=DATE:20260725
DTEND;VALUE=DATE:20260727
DTSTAMP:20260421T045542
CREATED:20251117T223538Z
LAST-MODIFIED:20260405T023043Z
UID:3268-1784937600-1785110399@wlayc.org
SUMMARY:WLA Obon Festival 2026 (Tentative)
DESCRIPTION:WLA Obon typically takes place the last weekend of July.
URL:https://wlayc.org/calendar/wla-obon-festival-2026-tentative/
LOCATION:West Los Angeles Buddhist Temple\, 2003 Corinth Ave\, Los Angeles\, CA\, 90025\, United States
END:VEVENT
BEGIN:VEVENT
DTSTART;TZID=America/Los_Angeles:20260808T080000
DTEND;TZID=America/Los_Angeles:20260809T170000
DTSTAMP:20260421T045542
CREATED:20260219T023610Z
LAST-MODIFIED:20260219T023610Z
UID:3326-1786176000-1786294800@wlayc.org
SUMMARY:Hollywood Dodgers Las Vegas Invitational Tournament 2026
DESCRIPTION:
URL:https://wlayc.org/calendar/hollywood-dodgers-las-vegas-invitational-tournament-2026/
LOCATION:CA
END:VEVENT
BEGIN:VEVENT
DTSTART;TZID=America/Los_Angeles:20260812T193000
DTEND;TZID=America/Los_Angeles:20260812T203000
DTSTAMP:20260421T045542
CREATED:20251117T223105Z
LAST-MODIFIED:20251117T223105Z
UID:3260-1786563000-1786566600@wlayc.org
SUMMARY:Aug 2026 Parent Rep Meeting
DESCRIPTION:
URL:https://wlayc.org/calendar/aug-2026-parent-rep-meeting/
LOCATION:West Los Angeles Buddhist Temple\, 2003 Corinth Ave\, Los Angeles\, CA\, 90025\, United States
END:VEVENT
BEGIN:VEVENT
DTSTART;TZID=America/Los_Angeles:20260909T193000
DTEND;TZID=America/Los_Angeles:20260909T203000
DTSTAMP:20260421T045542
CREATED:20251117T223135Z
LAST-MODIFIED:20251117T223135Z
UID:3262-1788982200-1788985800@wlayc.org
SUMMARY:Sep 2026 Parent Rep Meeting
DESCRIPTION:
URL:https://wlayc.org/calendar/sep-2026-parent-rep-meeting/
LOCATION:West Los Angeles Buddhist Temple\, 2003 Corinth Ave\, Los Angeles\, CA\, 90025\, United States
END:VEVENT
BEGIN:VEVENT
DTSTART;VALUE=DATE:20261010
DTEND;VALUE=DATE:20261012
DTSTAMP:20260421T045542
CREATED:20251117T231114Z
LAST-MODIFIED:20260303T051623Z
UID:3275-1791590400-1791763199@wlayc.org
SUMMARY:VFW Tournament 2026
DESCRIPTION:
URL:https://wlayc.org/calendar/vfw-tournament-2026-tentative/
LOCATION:CA
END:VEVENT
BEGIN:VEVENT
DTSTART;TZID=America/Los_Angeles:20261014T193000
DTEND;TZID=America/Los_Angeles:20261014T203000
DTSTAMP:20260421T045542
CREATED:20251117T223209Z
LAST-MODIFIED:20251117T223209Z
UID:3264-1792006200-1792009800@wlayc.org
SUMMARY:Oct 2026 Parent Rep Meeting
DESCRIPTION:
URL:https://wlayc.org/calendar/oct-2026-parent-rep-meeting/
LOCATION:West Los Angeles Buddhist Temple\, 2003 Corinth Ave\, Los Angeles\, CA\, 90025\, United States
END:VEVENT
END:VCALENDAR